BEGIN:VCALENDAR
VERSION:2.0
PRODID:-//Fair Haven - ECPv6.15.20//NONSGML v1.0//EN
CALSCALE:GREGORIAN
METHOD:PUBLISH
X-ORIGINAL-URL:https://fairhavenjesup.org
X-WR-CALDESC:Events for Fair Haven
REFRESH-INTERVAL;VALUE=DURATION:PT1H
X-Robots-Tag:noindex
X-PUBLISHED-TTL:PT1H
BEGIN:VTIMEZONE
TZID:America/New_York
BEGIN:DAYLIGHT
TZOFFSETFROM:-0500
TZOFFSETTO:-0400
TZNAME:EDT
DTSTART:20230312T070000
END:DAYLIGHT
BEGIN:STANDARD
TZOFFSETFROM:-0400
TZOFFSETTO:-0500
TZNAME:EST
DTSTART:20231105T060000
END:STANDARD
BEGIN:DAYLIGHT
TZOFFSETFROM:-0500
TZOFFSETTO:-0400
TZNAME:EDT
DTSTART:20240310T070000
END:DAYLIGHT
BEGIN:STANDARD
TZOFFSETFROM:-0400
TZOFFSETTO:-0500
TZNAME:EST
DTSTART:20241103T060000
END:STANDARD
BEGIN:DAYLIGHT
TZOFFSETFROM:-0500
TZOFFSETTO:-0400
TZNAME:EDT
DTSTART:20250309T070000
END:DAYLIGHT
BEGIN:STANDARD
TZOFFSETFROM:-0400
TZOFFSETTO:-0500
TZNAME:EST
DTSTART:20251102T060000
END:STANDARD
END:VTIMEZONE
BEGIN:VEVENT
DTSTART;TZID=America/New_York:20240424T113000
DTEND;TZID=America/New_York:20240424T130000
DTSTAMP:20260421T044212
CREATED:20240221T195748Z
LAST-MODIFIED:20240415T132805Z
UID:1600-1713958200-1713963600@fairhavenjesup.org
SUMMARY:Luncheon & Fashion Show
DESCRIPTION:[vc_row][vc_column][vc_column_text] \n\nJoin us for Fair Haven’s second annual Professional Women’s Luncheon & Fashion Show on April 24th at Unity Church of God’s gymnasium from 11:30 AM to 1:00 PM for delish food awesome door prizes\, a silent auction\, and a fabulous fashion show! \n  \n\nThis event isn’t just about savoring delicious cuisine; it’s a platform to acknowledge the integrity\, dedication\, and tact displayed by the professional women in our midst. It’s a moment to applaud their achievements and highlight their impact on our local workforce\, all while supporting and advocating for the men\, women\, and children in our community who have\, are\, and will experience domestic violence. The funds raised at this event last year are attributed to serving 645 survivors of abuse in our service area.\nHelp us double the funds raised from the previous year to increase the quantity and quality of services we are able to provide to those who need our help. For more information or to pay with a card\, contact Faith Teston at (912)559-9290.\n\n  \nKendra Gives Back\n  \n  \n  \n  \n  \nCLICK BELOW FOR THE SPONSORSHIP FORM \nFair Haven Sponsorship-fillable form 2024[/vc_column_text][/vc_column][/vc_row][vc_row][vc_column][vc_column_text] \nAn Exciting Silent Auction Donation From:\n[/vc_column_text][/vc_column][/vc_row]
URL:https://fairhavenjesup.org/event/luncheon-fashion-show/
CATEGORIES:Fund Raiser
ATTACH;FMTTYPE=image/png:https://fairhavenjesup.org/wp-content/uploads/2024/02/2024-Save-the-Date-Square12.png
END:VEVENT
END:VCALENDAR