BEGIN:VCALENDAR
VERSION:2.0
PRODID:-//Fair Haven - ECPv6.15.20//NONSGML v1.0//EN
CALSCALE:GREGORIAN
METHOD:PUBLISH
X-ORIGINAL-URL:https://fairhavenjesup.org
X-WR-CALDESC:Events for Fair Haven
REFRESH-INTERVAL;VALUE=DURATION:PT1H
X-Robots-Tag:noindex
X-PUBLISHED-TTL:PT1H
BEGIN:VTIMEZONE
TZID:America/New_York
BEGIN:DAYLIGHT
TZOFFSETFROM:-0500
TZOFFSETTO:-0400
TZNAME:EDT
DTSTART:20230312T070000
END:DAYLIGHT
BEGIN:STANDARD
TZOFFSETFROM:-0400
TZOFFSETTO:-0500
TZNAME:EST
DTSTART:20231105T060000
END:STANDARD
BEGIN:DAYLIGHT
TZOFFSETFROM:-0500
TZOFFSETTO:-0400
TZNAME:EDT
DTSTART:20240310T070000
END:DAYLIGHT
BEGIN:STANDARD
TZOFFSETFROM:-0400
TZOFFSETTO:-0500
TZNAME:EST
DTSTART:20241103T060000
END:STANDARD
BEGIN:DAYLIGHT
TZOFFSETFROM:-0500
TZOFFSETTO:-0400
TZNAME:EDT
DTSTART:20250309T070000
END:DAYLIGHT
BEGIN:STANDARD
TZOFFSETFROM:-0400
TZOFFSETTO:-0500
TZNAME:EST
DTSTART:20251102T060000
END:STANDARD
END:VTIMEZONE
BEGIN:VEVENT
DTSTART;TZID=America/New_York:20240528T160000
DTEND;TZID=America/New_York:20240528T170000
DTSTAMP:20260419T121018
CREATED:20240221T193111Z
LAST-MODIFIED:20240227T195614Z
UID:1585-1716912000-1716915600@fairhavenjesup.org
SUMMARY:Fair Haven Board of Directors
DESCRIPTION:
URL:https://fairhavenjesup.org/event/fair-haven-board-of-directors-4/
CATEGORIES:Community Awareness
END:VEVENT
BEGIN:VEVENT
DTSTART;TZID=America/New_York:20240611T173000
DTEND;TZID=America/New_York:20240611T183000
DTSTAMP:20260419T121018
CREATED:20240221T184826Z
LAST-MODIFIED:20240224T125924Z
UID:1551-1718127000-1718130600@fairhavenjesup.org
SUMMARY:Let’s Talk About It
DESCRIPTION:Explore a transformative experience at “Let’s Talk About It\,” where we gather every 2nd Tuesday and 4th Thursday at 261 S Brunswick St\, Jesup. Join us for enriching discussions\, self-discovery\, and building meaningful connections. This empowering event\, led by Amy Smith\, focuses on nurturing minds and igniting souls. Childcare is available with a one-week RSVP. For more information\, contact Amy at (912) 559-9290. Be part of a community dedicated to growth and empowerment!
URL:https://fairhavenjesup.org/event/lets-talk-about-it-9/
LOCATION:Fair Haven’s Community Resource Center\, Jesup\, GA\, 31545\, United States
CATEGORIES:Community Awareness
END:VEVENT
BEGIN:VEVENT
DTSTART;TZID=America/New_York:20240625T160000
DTEND;TZID=America/New_York:20240625T170000
DTSTAMP:20260419T121018
CREATED:20240221T193234Z
LAST-MODIFIED:20240227T195701Z
UID:1587-1719331200-1719334800@fairhavenjesup.org
SUMMARY:Fair Haven Board of Directors
DESCRIPTION:
URL:https://fairhavenjesup.org/event/fair-haven-board-of-directors-5/
CATEGORIES:Community Awareness
END:VEVENT
BEGIN:VEVENT
DTSTART;TZID=America/New_York:20240627T173000
DTEND;TZID=America/New_York:20240627T183000
DTSTAMP:20260419T121018
CREATED:20240221T185020Z
LAST-MODIFIED:20240613T184902Z
UID:1553-1719509400-1719513000@fairhavenjesup.org
SUMMARY:Let’s Talk About It
DESCRIPTION:Explore a transformative experience at “Let’s Talk About It\,” where we gather every 2nd Tuesday and 4th Thursday at 261 S Brunswick St\, Jesup. Join us for enriching discussions\, self-discovery\, and building meaningful connections. This empowering event focuses on nurturing minds and igniting souls. Childcare is available with a one-week RSVP. For more information\, contact Kirby at (912) 559-9290. Be part of a community dedicated to growth and empowerment!
URL:https://fairhavenjesup.org/event/lets-talk-about-it-10/
LOCATION:Fair Haven’s Community Resource Center\, Jesup\, GA\, 31545\, United States
CATEGORIES:Community Awareness
END:VEVENT
END:VCALENDAR